BEGIN:VCALENDAR
VERSION:2.0
PRODID:-//RChurch - ECPv4.8.2//NONSGML v1.0//EN
CALSCALE:GREGORIAN
METHOD:PUBLISH
X-WR-CALNAME:RChurch
X-ORIGINAL-URL:https://new.rchurchonline.com
X-WR-CALDESC:Events for RChurch
BEGIN:VEVENT
DTSTART;TZID=America/Chicago:20180312T190000
DTEND;TZID=America/Chicago:20180312T200000
DTSTAMP:20260421T114754
CREATED:20170612T221957Z
LAST-MODIFIED:20180311T232044Z
UID:31674-1520881200-1520884800@new.rchurchonline.com
SUMMARY:Prayer
DESCRIPTION:
URL:https://new.rchurchonline.com/event/prayer-2018-03-12/
LOCATION:Nanette Fenzau\, 606 Green Meadow Drive\, Verona\, WI\, 53593\, United States
GEO:42.979953;-89.52469
X-APPLE-STRUCTURED-LOCATION;VALUE=URI;X-ADDRESS=Nanette Fenzau 606 Green Meadow Drive Verona WI 53593 United States;X-APPLE-RADIUS=500;X-TITLE=606 Green Meadow Drive:geo:-89.52469,42.979953
CATEGORIES:RChurch Event
ATTACH;FMTTYPE=image/jpeg:https://new.rchurchonline.com/wp-content/uploads/2017/06/prayer.jpg
END:VEVENT
END:VCALENDAR