BEGIN:VCALENDAR
VERSION:2.0
PRODID:-//RChurch - ECPv4.8.2//NONSGML v1.0//EN
CALSCALE:GREGORIAN
METHOD:PUBLISH
X-WR-CALNAME:RChurch
X-ORIGINAL-URL:https://new.rchurchonline.com
X-WR-CALDESC:Events for RChurch
BEGIN:VEVENT
DTSTART;TZID=America/Chicago:20181231T190000
DTEND;TZID=America/Chicago:20181231T200000
DTSTAMP:20260421T114650
CREATED:20170612T221957Z
LAST-MODIFIED:20181228T190015Z
UID:31716-1546282800-1546286400@new.rchurchonline.com
SUMMARY:Canceled - Prayer
DESCRIPTION:
URL:https://new.rchurchonline.com/event/prayer-2018-12-31/
CATEGORIES:RChurch Event
ATTACH;FMTTYPE=image/jpeg:https://new.rchurchonline.com/wp-content/uploads/2017/06/prayer.jpg
END:VEVENT
END:VCALENDAR