BEGIN:VCALENDAR
VERSION:2.0
PRODID:-//RChurch - ECPv4.8.2//NONSGML v1.0//EN
CALSCALE:GREGORIAN
METHOD:PUBLISH
X-WR-CALNAME:RChurch
X-ORIGINAL-URL:https://new.rchurchonline.com
X-WR-CALDESC:Events for RChurch
BEGIN:VEVENT
DTSTART;TZID=America/Chicago:20160807T130000
DTEND;TZID=America/Chicago:20160807T170000
DTSTAMP:20260423T115050
CREATED:20160608T165041Z
LAST-MODIFIED:20160608T165041Z
UID:25788-1470574800-1470589200@new.rchurchonline.com
SUMMARY:RChurch Picnic - Mendota Park
DESCRIPTION:
URL:https://new.rchurchonline.com/event/rchurch-picnic-mendota-park/
LOCATION:Mendota County Park\, 5133 County Hwy M\, Middleton\, WI\, 53562\, United States
GEO:43.1117827;-89.4708853
X-APPLE-STRUCTURED-LOCATION;VALUE=URI;X-ADDRESS=Mendota County Park 5133 County Hwy M Middleton WI 53562 United States;X-APPLE-RADIUS=500;X-TITLE=5133 County Hwy M:geo:-89.4708853,43.1117827
CATEGORIES:RChurch Event
ORGANIZER;CN="Annette%20Kelliher":MAILTO:info@rchurch.cc
END:VEVENT
END:VCALENDAR