BEGIN:VCALENDAR
VERSION:2.0
PRODID:-//RChurch - ECPv4.8.2//NONSGML v1.0//EN
CALSCALE:GREGORIAN
METHOD:PUBLISH
X-WR-CALNAME:RChurch
X-ORIGINAL-URL:https://new.rchurchonline.com
X-WR-CALDESC:Events for RChurch
BEGIN:VEVENT
DTSTART;TZID=America/Chicago:20180624T100000
DTEND;TZID=America/Chicago:20180624T233000
DTSTAMP:20260421T114940
CREATED:20180622T151030Z
LAST-MODIFIED:20180622T153022Z
UID:35115-1529834400-1529883000@new.rchurchonline.com
SUMMARY:RChurch Service - Dan Mohler
DESCRIPTION:Join us for our normal Sunday morning service! \nDO NOT MISS THESE TRANSFORMING TEACHINGS ON DISCOVERING OUR CREATED VALUE AND IDENTITY THROUGH CHRIST JESUS\n
URL:https://new.rchurchonline.com/event/rchurch-service-dan-mohler/
LOCATION:RChurch\, 6604 Odana Rd\, Madison\, WI\, 53719\, United States
GEO:43.0562387;-89.4936342
X-APPLE-STRUCTURED-LOCATION;VALUE=URI;X-ADDRESS=RChurch 6604 Odana Rd Madison WI 53719 United States;X-APPLE-RADIUS=500;X-TITLE=6604 Odana Rd:geo:-89.4936342,43.0562387
CATEGORIES:RChurch Service
ATTACH;FMTTYPE=image/jpeg:https://new.rchurchonline.com/wp-content/uploads/2018/05/Dan-Mohler-Web-Banner-5.jpg
ORGANIZER;CN="RChurch":MAILTO:info@rchurch.cc
END:VEVENT
END:VCALENDAR