BEGIN:VCALENDAR
VERSION:2.0
PRODID:-//RChurch - ECPv4.8.2//NONSGML v1.0//EN
CALSCALE:GREGORIAN
METHOD:PUBLISH
X-WR-CALNAME:RChurch
X-ORIGINAL-URL:https://new.rchurchonline.com
X-WR-CALDESC:Events for RChurch
BEGIN:VEVENT
DTSTART;TZID=America/Chicago:20150725T093000
DTEND;TZID=America/Chicago:20150725T113000
DTSTAMP:20260421T114852
CREATED:20150707T185016Z
LAST-MODIFIED:20150707T185115Z
UID:24590-1437816600-1437823800@new.rchurchonline.com
SUMMARY:RLife Group Leadership Meeting
DESCRIPTION:
URL:https://new.rchurchonline.com/event/rlife-group-leadership-meeting/
CATEGORIES:Leader Meetings
END:VEVENT
END:VCALENDAR