BEGIN:VCALENDAR
VERSION:2.0
PRODID:-//RChurch - ECPv4.8.2//NONSGML v1.0//EN
CALSCALE:GREGORIAN
METHOD:PUBLISH
X-WR-CALNAME:RChurch
X-ORIGINAL-URL:https://new.rchurchonline.com
X-WR-CALDESC:Events for RChurch
BEGIN:VEVENT
DTSTART;TZID=America/Chicago:20180207T063000
DTEND;TZID=America/Chicago:20180207T193000
DTSTAMP:20260421T113644
CREATED:20180206T182812Z
LAST-MODIFIED:20180206T182812Z
UID:34390-1517985000-1518031800@new.rchurchonline.com
SUMMARY:RYouth Night
DESCRIPTION:
URL:https://new.rchurchonline.com/event/ryouth-night-2/
CATEGORIES:RYouth
END:VEVENT
END:VCALENDAR